Workbook
Name Print_Area: '№ 3 р.п'!$A$1:$E$49
Name Print_Area: '№ 4 ведом'!$A$1:$H$991
Name Print_Area: '№ 6 МП'!$A$1:$F$599

Sheet № 1 источ 
A1: Приложение 1
A2: к решению Торжокской городской Думы
A3: от 23.12.2025 № 29
A4: (в редакции решения Думы Торжокского муниципального округа Тверской области от 22.10.2026 № 97)
A6: Источники финансирования дефицита бюджета
A7: муниципального образования город Торжок на 2026 год и на плановый период 2027 и 2028 годов
A9: Код БК РФ | B9: Наименование | C9: Сумма, тыс. руб.
C10: 2026 год | D10: плановый период
D11: 2027 год | E11: 2028 год
A12: 1 | B12: 2 | C12: 3 | D12: 4 | E12: 5
A13: 000 01 00 00 00 00 0000 000 | B13: ИСТОЧНИКИ ВНУТРЕННЕГО ФИНАНСИРОВАНИЯ ДЕФИЦИТОВ БЮДЖЕТОВ | C13: =C14 -> 113134.9 | D13: =D14 -> 0 | E13: =E14 -> 0
A14: 000 01 05 00 00 00 0000 000 | B14: Изменение остатков средств на счетах по учету средств бюджетов | C14: =C15+C19 -> 113134.9 | D14: =D15+D19 -> 0 | E14: =E15+E19 -> 0
A15: 000 01 05 00 00 00 0000 500 | B15: Увеличение остатков средств бюджетов | C15: =C16 -> -1724648.7 | D15: =D16 -> -1554607.2 | E15: =E16 -> -1419226.1
A16: 000 01 05 02 00 00 0000 500 | B16: Увеличение прочих остатков средств бюджетов | C16: =C17 -> -1724648.7 | D16: =D17 -> -1554607.2 | E16: =E17 -> -1419226.1
A17: 000 01 05 02 01 00 0000 510 | B17: Увеличение прочих остатков денежных средств бюджетов | C17: =C18 -> -1724648.7 | D17: =D18 -> -1554607.2 | E17: =E18 -> -1419226.1
A18: 000 01 05 02 01 04 0000 510 | B18: Увеличение прочих остатков денежных средств бюджетов городских округов | C18: -1724648.7 | D18: =-1554607.2 -> -1554607.2 | E18: -1419226.1
A19: 000 01 05 00 00 00 0000 600 | B19: Уменьшение остатков средств бюджетов | C19: =C20 -> 1837783.6 | D19: =D20 -> 1554607.2 | E19: =E20 -> 1419226.1
A20: 000 01 05 02 00 00 0000 600 | B20: Уменьшение прочих остатков средств бюджетов | C20: =C21 -> 1837783.6 | D20: =D21 -> 1554607.2 | E20: =E21 -> 1419226.1
A21: 000 01 05 02 01 00 0000 610 | B21: Уменьшение прочих остатков денежных средств бюджетов | C21: =C22 -> 1837783.6 | D21: =D22 -> 1554607.2 | E21: =E22 -> 1419226.1
A22: 000 01 05 02 01 04 0000 610 | B22: Уменьшение прочих остатков денежных средств бюджетов городских округов | C22: 1837783.6 | D22: =1534607.2+20000 -> 1554607.2 | E22: 1419226.1

Sheet № 2 дох.
C1: Приложение 2
B2: к решению Торжокской городской Думы
C3: от 23.12.2025 № 29
B4: (в редакции решения Думы Торжокского муниципального округа Тверской области от 22.10.2026 № 97)
A7: Прогнозируемые доходы бюджета муниципального образования город Торжок по группам, подгруппам, статьям, подстатьям и элементам доходов классификации доходов бюджетов Российской Федерации на 2026 год и на плановый период 2027 и 2028 годов
A9: Код классификации Российской Федерации | B9: Наименование дохода | C9: Сумма, тыс. руб.
C10: 2026 год | D10: 2027 год | E10: 2028 год
A11: 000 1 00 00000 00 0000 000 | B11: НАЛОГОВЫЕ И НЕНАЛОГОВЫЕ ДОХОДЫ | C11: =C12+C25+C35+C43+C51+C54+C71+C80+C111+C67 -> 667548.3 | D11: =D12+D25+D35+D43+D51+D54+D71+D80+D111+D67 -> 625332.6 | E11: =E12+E25+E35+E43+E51+E54+E71+E80+E111+E67 -> 602263
A12: 000 1 01 00000 00 0000 000 | B12: НАЛОГИ НА ПРИБЫЛЬ, ДОХОДЫ | C12: =C13 -> 429934.3 | D12: =D13 -> 414132.9 | E12: =E13 -> 390453.3
A13: 000 1 01 02000 01 0000 110 | B13: Налог на доходы физических лиц | C13: =SUM(C14:C24) -> 429934.3 | D13: =SUM(D14:D24) -> 414132.9 | E13: =SUM(E14:E24) -> 390453.3
A14: 000 1 01 02010 01 0000 110 | B14: Налог на доходы физических лиц с доходов, источником которых является налоговый агент, за исключением доходов, в отношении которых исчисление и уплата налога осуществляются в соответствии со статьями 227, 227.1 и 228 Налогового кодекса Российской Федерации, а также доходов от долевого участия в организации, полученных физическим лицом - налоговым резидентом Российской Федерации в виде дивидендов (в части суммы налога, не превышающей 650 тысяч рублей за налоговые периоды до 1 января 2025 года, а также в части суммы налога, не превышающей 312 тысяч рублей за налоговые периоды после 1 января 2025 года), а также налог на доходы физических лиц в отношении доходов от долевого участия в организации, полученных физическим лицом, не являющимся налоговым резидентом Российской Федерации, в виде дивидендов | C14: 393773.7 | D14: 377804.1 | E14: 352245.8
A15: 000 1 01 02020 01 0000 110 | B15: Налог на доходы физических лиц с доходов, полученных от осуществления деятельности физическими лицами, зарегистрированными в качестве индивидуальных предпринимателей, нотариусов, занимающихся частной практикой, адвокатов, учредивших адвокатские кабинеты, и других лиц, занимающихся частной практикой в соответствии со статьей 227 Налогового кодекса Российской Федерации (в части суммы налога, не превышающей 650 тысяч рублей за налоговые периоды до 1 января 2025 года, а также в части суммы налога, не превышающей 312 тысяч рублей за налоговые периоды после 1 января 2025 года) | C15: 346.7 | D15: 330.6 | E15: 307.6
A16: 000 1 01 02021 01 0000 110 | B16: Налог на доходы физических лиц с доходов, полученных от осуществления деятельности физическими лицами, зарегистрированными в качестве индивидуальных предпринимателей, нотариусов, занимающихся частной практикой, адвокатов, учредивших адвокатские кабинеты, и других лиц, занимающихся частной практикой в соответствии со статьей 227 Налогового кодекса Российской Федерации (в части суммы налога, превышающей 312 тысяч рублей, относящейся к части налоговой базы, превышающей 2,4 миллиона рублей и составляющей не более 5 миллионов рублей) | C16: 153.6 | D16: 171.7 | E16: 181.5
A17: 000 1 01 02022 01 0000 110 | B17: Налог на доходы физических лиц с доходов, полученных от осуществления деятельности физическими лицами, зарегистрированными в качестве индивидуальных предпринимателей, нотариусов, занимающихся частной практикой, адвокатов, учредивших адвокатские кабинеты, и других лиц, занимающихся частной практикой в соответствии со статьей 227 Налогового кодекса Российской Федерации (в части суммы налога, превышающей 702 тысячи рублей, относящейся к части налоговой базы, превышающей 5 миллионов рублей и составляющей не более 20 миллионов рублей) | C17: 3.5 | D17: 4 | E17: 4.1
A18: 000 1 01 02030 01 0000 110 | B18: Налог на доходы физических лиц с доходов, полученных физическими лицами в соответствии со статьей 228 Налогового кодекса Российской Федерации (за исключением доходов от долевого участия в организации, полученных физическим лицом налоговым резидентом Российской Федерации в виде дивидендов) (в части суммы налога, не превышающей 650 тысяч рублей за налоговые периоды до 1 января 2025 года, а также в части суммы налога, не превышающей 312 тысяч рублей за налоговые периоды после 1 января 2025 года) | C18: 3462.6 | D18: 3302.9 | E18: 3076.9
A19: 000 1 01 02080 01 0000 110 | B19: Налог на доходы физических лиц в части суммы налога, превышающей 650 тысяч рублей, относящейся к части налоговой базы, превышающей 5 миллионов рублей (за исключением налога на доходы физических лиц с сумм прибыли контролируемой иностранной компании, в том числе фиксированной прибыли контролируемой иностранной компании, а также налога на доходы физических лиц в отношении доходов от долевого участия в организации, полученных физическим лицом - налоговым резидентом Российской Федерации в виде дивидендов) за налоговые периоды до 1 января 2025 года, а также налог на доходы физических лиц в части суммы налога, превышающей 312 тысяч рублей, относящейся к части налоговой базы, превышающей 2,4 миллиона рублей и составляющей не более 5 миллионов рублей (за исключением налога на доходы физических лиц в отношении доходов, указанных в абзаце тридцать девятом статьи 50 Бюджетного кодекса Российской Федерации, налога на доходы физических лиц в части суммы налога, превышающей 312 тысяч рублей, относящейся к сумме налоговых баз, указанных в пункте 6 статьи 210 Налогового кодекса Российской Федерации, превышающей 2,4 миллиона рублей (за исключением налога на доходы физических лиц в отношении доходов, указанных в абзацах тридцать пятом и тридцать шестом статьи 50 Бюджетного кодекса Российской Федерации), а также налога на доходы физических лиц в отношении доходов физических лиц, не являющихся налоговыми резидентами Российской Федерации, указанных в абзаце девятом пункта 3 статьи 224 Налогового кодекса Российской Федерации, в части суммы налога, превышающей 312 тысяч рублей, относящейся к части налоговой базы, превышающей 2,4 миллиона рублей) за налоговые периоды после 1 января 2025 года | C19: 1372.6 | D19: 1533.5 | E19: 1621.9
A20: 000 1 01 02130 01 0000 110 | B20: Налог на доходы физических лиц в отношении доходов от долевого участия в организации, полученных физическим лицом - налоговым резидентом Российской Федерации в виде дивидендов (в части суммы налога, не превышающей 650 тысяч рублей за налоговые периоды до 1 января 2025 года, а также в части суммы налога, не превышающей 312 тысяч рублей за налоговые периоды после 1 января 2025 года) | C20: 4772.6 | D20: 4176.8 | E20: 3989.1
A21: 000 1 01 02140 01 0000 110 | B21: Налог на доходы физических лиц в отношении доходов от долевого участия в организации, полученных физическим лицом - налоговым резидентом Российской Федерации в виде дивидендов (в части суммы налога, превышающей 650 тысяч рублей за налоговые периоды до 1 января 2025 года, а также в части суммы налога, превышающей 312 тысяч рублей за налоговые периоды после 1 января 2025 года) | C21: 24865.7 | D21: 25487.3 | E21: 27628.3
A22: 000 1 01 02150 01 0000 110 | B22: Налог на доходы физических лиц в части суммы налога, превышающей 702 тысячи рублей, относящейся к части налоговой базы, превышающей 5 миллионов рублей и составляющей не более 20 миллионов рублей (за исключением налога на доходы физических лиц в отношении доходов, указанных в абзаце тридцать девятом статьи 50 Бюджетного кодекса Российской Федерации, налога на доходы физических лиц в части суммы налога, превышающей 312 тысяч рублей, относящейся к сумме налоговых баз, указанных в пункте 6 статьи 210 Налогового кодекса Российской Федерации, превышающей 2,4 миллиона рублей (за исключением налога на доходы физических лиц в отношении доходов, указанных в абзацах тридцать пятом и тридцать шестом статьи 50 Бюджетного кодекса Российской Федерации), а также налога на доходы физических лиц в отношении доходов физических лиц, не являющихся налоговыми резидентами Российской Федерации, указанных в абзаце девятом пункта 3 статьи 224 Налогового кодекса Российской Федерации, в части суммы налога, превышающей 312 тысяч рублей, относящейся к части налоговой базы, превышающей 2,4 миллиона рублей) | C22: 636.6 | D22: 711.3 | E22: 752.3
A23: 000 1 01 02180 01 0000 110 | B23: Налог на доходы физических лиц в части суммы налога, превышающей 312 тысяч рублей, относящейся к сумме налоговых баз, указанных в пункте 6 статьи 210 Налогового кодекса Российской Федерации, превышающей 2,4 миллиона рублей (за исключением налога на доходы физических лиц в отношении доходов, указанных в абзацах тридцать пятом и тридцать шестом статьи 50 Бюджетного кодекса Российской Федерации, а также налога на доходы физических лиц в отношении доходов от долевого участия в организации, полученных физическим лицом налоговым резидентом Российской Федерации в виде дивидендов (в части суммы налога, превышающей 312 тысяч рублей) | C23: 544.7 | D23: 608.4 | E23: 643.4
A24: 000 1 01 02210 01 0000 110 | B24: Налог на доходы физических лиц в части суммы налога, относящейся к налоговой базе, указанной в пункте 6.2 статьи 210 Налогового кодекса Российской Федерации, не превышающей 5 миллионов рублей | C24: 2 | D24: 2.3 | E24: 2.4
A25: 000 1 03 00000 00 0000 000 | B25: НАЛОГИ НА ТОВАРЫ (РАБОТЫ, УСЛУГИ), РЕАЛИЗУЕМЫЕ НА ТЕРРИТОРИИ РОССИЙСКОЙ ФЕДЕРАЦИИ | C25: =C26 -> 7531.9 | D25: =D26 -> 7727.3 | E25: =E26 -> 7971.7
A26: 000 1 03 02000 01 0000 110 | B26: Акцизы по подакцизным товарам (продукции), производимым на территории Российской Федерации | C26: =C27+C29+C31+C33 -> 7531.9 | D26: =D27+D29+D31+D33 -> 7727.3 | E26: =E27+E29+E31+E33 -> 7971.7
A27: 000 1 03 02230 01 0000 110 | B27: Доходы от уплаты акцизов на дизельное топливо, подлежащие распределению между бюджетами субъектов Российской Федерации и местными бюджетами с учетом установленных дифференцированных нормативов отчислений в местные бюджеты | C27: =C28 -> 3941.2 | D27: =D28 -> 4038.4 | E27: =E28 -> 4159.6
A28: 000 1 03 02231 01 0000 110 | B28: Доходы от уплаты акцизов на дизельное топливо, подлежащие распределению между бюджетами субъектов Российской Федерации и местными бюджетами с учетом установленных дифференцированных нормативов отчислений в местные бюджеты (по нормативам, установленным федеральным законом о федеральном бюджете в целях формирования дорожных фондов субъектов Российской Федерации) | C28: 3941.2 | D28: 4038.4 | E28: 4159.6
A29: 000 1 03 02240 01 0000 110 | B29: Доходы от уплаты акцизов на моторные масла для дизельных и (или) карбюраторных (инжекторных) двигателей, подлежащие распределению между бюджетами субъектов Российской Федерации и местными бюджетами с учетом установленных дифференцированных нормативов отчислений в местные бюджеты | C29: =C30 -> 19.3 | D29: =D30 -> 19.7 | E29: =E30 -> 20.3
A30: 000 1 03 02241 01 0000 110 | B30: Доходы от уплаты акцизов на моторные масла для дизельных и (или) карбюраторных (инжекторных) двигателей, подлежащие распределению между бюджетами субъектов Российской Федерации и местными бюджетами с учетом установленных дифференцированных нормативов Отчислений в местные бюджеты (по нормативам, установленным федеральным законом о федеральном бюджете в целях формирования дорожных фондов субъектов Российской Федерации) | C30: 19.3 | D30: 19.7 | E30: 20.3
A31: 000 1 03 02250 01 0000 110 | B31: Доходы от уплаты акцизов на автомобильный бензин, подлежащие распределению между бюджетами субъектов Российской Федерации и местными бюджетами с учетом установленных дифференцированных нормативов отчислений в местные бюджеты | C31: =C32 -> 3812.2 | D31: =D32 -> 3906 | E31: =E32 -> 4026.2
A32: 000 1 03 02251 01 0000 110 | B32: Доходы от уплаты акцизов на автомобильный бензин, подлежащие распределению между бюджетами субъектов Российской Федерации и местными бюджетами с учетом установленных дифференцированных нормативов отчислений в местные бюджеты (по нормативам, установленным федеральным законом о федеральном бюджете в целях формирования дорожных фондов субъектов Российской Федерации) | C32: 3812.2 | D32: 3906 | E32: 4026.2
A33: 000 1 03 02260 01 0000 110 | B33: Доходы от уплаты акцизов на прямогонный бензин, подлежащие распределению между бюджетами субъектов Российской Федерации и местными бюджетами с учетом установленных дифференцированных нормативов отчислений в местные бюджеты | C33: =C34 -> -240.8 | D33: =D34 -> -236.8 | E33: =E34 -> -234.4
A34: 000 1 03 02261 01 0000 110 | B34: Доходы от уплаты акцизов на прямогонный бензин, подлежащие распределению между бюджетами субъектов Российской Федерации и местными бюджетами с учетом установленных дифференцированных нормативов отчислений в местные бюджеты (по нормативам, установленным федеральным законом о федеральном бюджете в целях формирования дорожных фондов субъектов Российской Федерации) | C34: -240.8 | D34: -236.8 | E34: -234.4
A35: 000 1 05 00000 00 0000 000 | B35: НАЛОГИ НА СОВОКУПНЫЙ ДОХОД | C35: =C41+C36 -> 73616.7 | D35: =D41+D36 -> 74481.5 | E35: =E41+E36 -> 75220.6
A36: 000 1 05 01000 00 0000 110 | B36: Налог, взимаемый в связи с применением упрощенной системы налогообложения | C36: =C37+C39 -> 70752.7 | D36: =D37+D39 -> 71502.5 | E36: =E37+E39 -> 72121.6
A37: 000 1 05 01010 01 0000 110 | B37: Налог, взимаемый с налогоплательщиков, выбравших в качестве объекта налогообложения доходы | C37: =C38 -> 47471.6 | D37: =D38 -> 48249.6 | E37: =E38 -> 48665.3
A38: 000 1 05 01011 01 0000 110 | B38: Налог, взимаемый с налогоплательщиков, выбравших в качестве объекта налогообложения доходы | C38: 47471.6 | D38: 48249.6 | E38: 48665.3
A39: 000 1 05 01020 01 0000 110 | B39: Налог, взимаемый с налогоплательщиков, выбравших в качестве объекта налогообложения доходы, уменьшенные на величину расходов | C39: =C40 -> 23281.1 | D39: =D40 -> 23252.9 | E39: =E40 -> 23456.3
A40: 000 1 05 01021 01 0000 110 | B40: Налог, взимаемый с налогоплательщиков, выбравших в качестве объекта налогообложения доходы, уменьшенные на величину расходов (в том числе минимальный налог, зачисляемый в бюджеты субъектов Российской Федерации) | C40: 23281.1 | D40: 23252.9 | E40: 23456.3
A41: 000 1 05 04000 02 0000 110 | B41: Налог, взимаемый в связи с применением патентной системы налогообложения | C41: =C42 -> 2864 | D41: =D42 -> 2979 | E41: =E42 -> 3099
A42: 000 1 05 04010 02 0000 110 | B42: Налог, взимаемый в связи с применением патентной системы налогообложения, зачисляемый в бюджеты городских округов | C42: 2864 | D42: 2979 | E42: 3099
A43: 000 1 06 00000 00 0000 000 | B43: НАЛОГИ НА ИМУЩЕСТВО | C43: =C44+C46 -> 70951 | D43: =D44+D46 -> 72140 | E43: =E44+E46 -> 73348
...

Sheet № 3 р.п
A1: Приложение 3 к решению Торжокской городской Думы от 23.12.2025 № 29
B2: (в редакции решения Думы Торжокского муниципального округа Тверской области от 22.10.2026 № 97)
A4: Распределение бюджетных ассигнований бюджета муниципального образования город Торжок по разделам и подразделам классификации расходов бюджетов на 2026 год и на плановый период 2027 и 2028 годов
A5: РП | B5: Наименование | C5: Сумма, тыс. руб.
C6: 2026 год | D6: плановый период
D7: 2027 год | E7: 2028 год
A8: 1 | B8: 2 | C8: 3 | D8: 4 | E8: 5
B9: ВСЕГО | C9: =C10+C20+C23+C26+C31+C38+C40+C44+C48 -> 1837783.6 | D9: =D10+D20+D23+D26+D31+D38+D40+D44+D48 -> 1538973.9 | E9: =E10+E20+E23+E26+E31+E38+E40+E44+E48 -> 1389112.9
A10: 0100 | B10: Общегосударственные вопросы | C10: =SUM(C11:C19) -> 132069.3 | D10: =SUM(D11:D19) -> 97859.4 | E10: =SUM(E11:E19) -> 98737.7
A11: 0102 | B11: Функционирование высшего должностного лица субъекта Российской Федерации и муниципального образования | C11: =' № 5 рп, кцср, квр'!E11 -> 3150.3 | D11: =' № 5 рп, кцср, квр'!F11 -> 2461.8 | E11: =' № 5 рп, кцср, квр'!G11 -> 2461.8
A12: 0103 | B12: Функционирование законодательных (представительных) органов государственной власти и представительных органов муниципальных образований | C12: =' № 5 рп, кцср, квр'!E17 -> 2694.5 | D12: =' № 5 рп, кцср, квр'!F17 -> 2522.9 | E12: =' № 5 рп, кцср, квр'!G17 -> 2522.9
A13: 0104 | B13: Функционирование Правительства Российской Федерации, высших исполнительных органов государственной власти субъектов Российской Федерации, местных администраций | C13: =' № 5 рп, кцср, квр'!E34 -> 38403.9 | D13: =' № 5 рп, кцср, квр'!F34 -> 35574.8 | E13: =' № 5 рп, кцср, квр'!G34 -> 35583.2
A14: 0105 | B14: Судебная система | C14: =' № 5 рп, кцср, квр'!E49 -> 210.3 | D14: =' № 5 рп, кцср, квр'!F49 -> 19.1 | E14: =' № 5 рп, кцср, квр'!G49 -> 20.7
A15: 0106 | B15: Обеспечение деятельности финансовых, налоговых и таможенных органов и органов финансового (финансово-бюджетного) надзора | C15: =' № 5 рп, кцср, квр'!E55 -> 14478.3 | D15: =' № 5 рп, кцср, квр'!F55 -> 14196.7 | E15: =' № 5 рп, кцср, квр'!G55 -> 14196.7
A16: 0107 | B16: Обеспечение проведения выборов и референдумов | C16: =' № 5 рп, кцср, квр'!E80 -> 8000 | D16: =' № 5 рп, кцср, квр'!F80 -> 0 | E16: =' № 5 рп, кцср, квр'!G80 -> 0
A17: 0108 | B17: Международные отношения и международное сотрудничество | C17: =' № 5 рп, кцср, квр'!E86 -> 88.6 | D17: =' № 5 рп, кцср, квр'!F86 -> 88.6 | E17: =' № 5 рп, кцср, квр'!G86 -> 88.6
A18: 0111 | B18: Резервные фонды | C18: =' № 5 рп, кцср, квр'!E93 -> 1875.2 | D18: =' № 5 рп, кцср, квр'!F93 -> 500 | E18: =' № 5 рп, кцср, квр'!G93 -> 500
A19: 0113 | B19: Другие общегосударственные вопросы | C19: =' № 5 рп, кцср, квр'!E99 -> 63168.2 | D19: =' № 5 рп, кцср, квр'!F99 -> 42495.5 | E19: =' № 5 рп, кцср, квр'!G99 -> 43363.8
A20: 0300 | B20: Национальная безопасность и правоохранительная деятельность | C20: =C21+C22 -> 15278.4 | D20: =D21+D22 -> 15284.1 | E20: =E21+E22 -> 15752
A21: 0304 | B21: Органы юстиции | C21: =' № 5 рп, кцср, квр'!E196 -> 1705.2 | D21: =' № 5 рп, кцср, квр'!F196 -> 1705.2 | E21: =' № 5 рп, кцср, квр'!G196 -> 1705.2
A22: 0310 | B22: Защита населения и территории от чрезвычайных ситуаций природного и техногенного характера, пожарная безопасность | C22: =' № 5 рп, кцср, квр'!E203 -> 13573.2 | D22: =' № 5 рп, кцср, квр'!F203 -> 13578.9 | E22: =' № 5 рп, кцср, квр'!G203 -> 14046.8
A23: 0400 | B23: Национальная экономика | C23: =C24+C25 -> 188258.7 | D23: =D24+D25 -> 135294.5 | E23: =E24+E25 -> 124728.1
A24: 0409 | B24: Дорожное хозяйство (дорожные фонды) | C24: =' № 5 рп, кцср, квр'!E220 -> 187959.7 | D24: =' № 5 рп, кцср, квр'!F220 -> 135294.5 | E24: =' № 5 рп, кцср, квр'!G220 -> 124728.1
A25: 0412 | B25: Другие вопросы в области национальной экономики | C25: =' № 5 рп, кцср, квр'!E267 -> 299 | D25: =' № 5 рп, кцср, квр'!F267 -> 0 | E25: =' № 5 рп, кцср, квр'!G267 -> 0
A26: 0500 | B26: Жилищно-коммунальное хозяйство | C26: =SUM(C27:C30) -> 143965.1 | D26: =SUM(D27:D30) -> 84385.5 | E26: =SUM(E27:E30) -> 65890.2
A27: 0501 | B27: Жилищное хозяйство | C27: =' № 5 рп, кцср, квр'!E280 -> 3749.9 | D27: =' № 5 рп, кцср, квр'!F280 -> 3749.9 | E27: =' № 5 рп, кцср, квр'!G280 -> 3749.9
A28: 0502 | B28: Коммунальное хозяйство | C28: =' № 5 рп, кцср, квр'!E287 -> 36889.4 | D28: =' № 5 рп, кцср, квр'!F287 -> 28500 | E28: =' № 5 рп, кцср, квр'!G287 -> 14000
A29: 0503 | B29: Благоустройство | C29: =' № 5 рп, кцср, квр'!E312 -> 84703.2 | D29: =' № 5 рп, кцср, квр'!F312 -> 41398.6 | E29: =' № 5 рп, кцср, квр'!G312 -> 37403.3
A30: 0505 | B30: Другие вопросы в области жилищно-коммунального хозяйства | C30: =' № 5 рп, кцср, квр'!E398 -> 18622.6 | D30: =' № 5 рп, кцср, квр'!F398 -> 10737 | E30: =' № 5 рп, кцср, квр'!G398 -> 10737
A31: 0700 | B31: Образование | C31: =SUM(C32:C37) -> 1160765.4 | D31: =SUM(D32:D37) -> 1014381 | E31: =SUM(E32:E37) -> 937004
A32: 0701 | B32: Дошкольное образование | C32: =' № 5 рп, кцср, квр'!E428 -> 487551.2 | D32: =' № 5 рп, кцср, квр'!F428 -> 358591.1 | E32: =' № 5 рп, кцср, квр'!G428 -> 361303.7
A33: 0702 | B33: Общее образование | C33: =' № 5 рп, кцср, квр'!E495 -> 609717.3 | D33: =' № 5 рп, кцср, квр'!F495 -> 592153.9 | E33: =' № 5 рп, кцср, квр'!G495 -> 511767.2
A34: 0703 | B34: Дополнительное образование детей | C34: =' № 5 рп, кцср, квр'!E597 -> 50037.1 | D34: =' № 5 рп, кцср, квр'!F597 -> 50542.7 | E34: =' № 5 рп, кцср, квр'!G597 -> 50832
A35: 0705 | B35: Профессиональная подготовка, переподготовка и повышение квалификации | C35: =' № 5 рп, кцср, квр'!E634 -> 150 | D35: =' № 5 рп, кцср, квр'!F634 -> 0 | E35: =' № 5 рп, кцср, квр'!G634 -> 0
A36: 0707 | B36: Молодежная политика | C36: =' № 5 рп, кцср, квр'!E641 -> 907.6 | D36: =' № 5 рп, кцср, квр'!F641 -> 835.3 | E36: =' № 5 рп, кцср, квр'!G641 -> 843.1
A37: 0709 | B37: Другие вопросы в области образования | C37: =' № 5 рп, кцср, квр'!E666 -> 12402.2 | D37: =' № 5 рп, кцср, квр'!F666 -> 12258 | E37: =' № 5 рп, кцср, квр'!G666 -> 12258
A38: 0800 | B38: Культура, кинематография | C38: =C39 -> 106580.9 | D38: =D39 -> 113116.9 | E38: =E39 -> 74675.5
A39: 0801 | B39: Культура | C39: =' № 5 рп, кцср, квр'!E696 -> 106580.9 | D39: =' № 5 рп, кцср, квр'!F696 -> 113116.9 | E39: =' № 5 рп, кцср, квр'!G696 -> 74675.5
A40: 1000 | B40: Социальная политика | C40: =SUM(C41:C43) -> 29357.8 | D40: =SUM(D41:D43) -> 21059.7 | E40: =SUM(E41:E43) -> 14845
A41: 1001 | B41: Пенсионное обеспечение | C41: =' № 5 рп, кцср, квр'!E751 -> 1119.7 | D41: =' № 5 рп, кцср, квр'!F751 -> 1119.7 | E41: =' № 5 рп, кцср, квр'!G751 -> 1119.7
...

Sheet № 4 ведом
B1: Приложение 4 к решению Торжокской городской Думы от 23.12.2025 № 29
E2: (в редакции решения Думы Торжокского муниципального округа Тверской области от 22.10.2026 № 97)
A4: Ведомственная структура расходов бюджета муниципального образования город Торжок на 2026 год и на плановый период 2027 и 2028 годов
A5: ППП | B5: РП | C5: КЦСР | D5: КВР | E5: Наименование | F5: Сумма, тыс. руб.
F6: 2026 год | G6: плановый период
G7: 2027 год | H7: 2028 год
A8: 1 | B8: 2 | C8: 3 | D8: 4 | E8: 5 | F8: 6 | G8: 7 | H8: 8
E9: Всего: | F9: =F10+F646+F679+F736+F785+F747+F756+F770 -> 1837783.6 | G9: =G10+G646+G679+G736+G785+G747+G756+G770 -> 1538973.9 | H9: =H10+H646+H679+H736+H785+H747+H756+H770 -> 1389112.9
A10: 001 | E10: администрация муниципального образования городской округ город Торжок Тверской области | F10: =F11+F132+F156+F211+F349+F465+F520+F635+F550 -> 829470.1 | G10: =G11+G132+G156+G211+G349+G465+G520+G635+G550 -> 568968.5 | H10: =H11+H132+H156+H211+H349+H465+H520+H635+H550 -> 427997.6
A11: 001 | B11: 0100 | E11: Общегосударственные вопросы | F11: =F12+F18+F33+F52+F45+F39 -> 89133.2 | G11: =G12+G18+G33+G52+G45+G39 -> 69643 | H11: =H12+H18+H33+H52+H45+H39 -> 70521.3
A12: 001 | B12: 0102 | E12: Функционирование высшего должностного лица субъекта Российской Федерации и муниципального образования | F12: =F13 -> 3150.3 | G12: =G13 -> 2461.8 | H12: =H13 -> 2461.8
A13: 001 | B13: 0102 | C13: 9900000000 | E13: Расходы, не включенные в муниципальные программы | F13: =F14 -> 3150.3 | G13: =G14 -> 2461.8 | H13: =H14 -> 2461.8
A14: 001 | B14: 0102 | C14: 9990000000 | E14: Обеспечение деятельности органов местного самоуправления и учреждений, обеспечивающих их деятельность | F14: =F15 -> 3150.3 | G14: =G15 -> 2461.8 | H14: =H15 -> 2461.8
A15: 001 | B15: 0102 | C15: 9990021000 | E15: Глава муниципального образования | F15: =F16 -> 3150.3 | G15: =G16 -> 2461.8 | H15: =H16 -> 2461.8
A16: 001 | B16: 0102 | C16: 9990021000 | D16: 100 | E16: Расходы на выплаты персоналу в целях обеспечения выполнения функций государственными (муниципальными) органами, казенными учреждениями, органами управления государственными внебюджетными фондами | F16: =F17 -> 3150.3 | G16: =G17 -> 2461.8 | H16: =H17 -> 2461.8
A17: 001 | B17: 0102 | C17: 9990021000 | D17: 120 | E17: Расходы на выплаты персоналу государственных (муниципальных) органов | F17: =2461.8+688.5 -> 3150.3 | G17: 2461.8 | H17: 2461.8
A18: 001 | B18: 0104 | E18: Функционирование Правительства Российской Федерации, высших исполнительных органов государственной власти субъектов Российской Федерации, местных администраций | F18: =F19 -> 38403.9 | G18: =G19 -> 35574.8 | H18: =H19 -> 35583.2
A19: 001 | B19: 0104 | C19: 9900000000 | E19: Расходы, не включенные в муниципальные программы | F19: =F20 -> 38403.9 | G19: =G20 -> 35574.8 | H19: =H20 -> 35583.2
A20: 001 | B20: 0104 | C20: 9990000000 | E20: Обеспечение деятельности органов местного самоуправления и учреждений, обеспечивающих их деятельность | F20: =F21 -> 38403.9 | G20: =G21 -> 35574.8 | H20: =H21 -> 35583.2
A21: 001 | B21: 0104 | C21: 9990200000 | E21: Обеспечение деятельности исполнительно-распорядительного органа местного самоуправления | F21: =F25+F22+F30 -> 38403.9 | G21: =G25+G22+G30 -> 35574.8 | H21: =H25+H22+H30 -> 35583.2
A22: 001 | B22: 0104 | C22: 9990210510 | E22: Финансовое обеспечение реализации государственных полномочий по созданию, исполнению полномочий и обеспечению деятельности комиссий по делам несовершеннолетних | F22: =F23 -> 1287.5 | G22: =G23 -> 1295.5 | H22: =H23 -> 1303.9
A23: 001 | B23: 0104 | C23: 9990210510 | D23: 100 | E23: Расходы на выплаты персоналу в целях обеспечения выполнения функций государственными (муниципальными) органами, казенными учреждениями, органами управления государственными внебюджетными фондами | F23: =F24 -> 1287.5 | G23: =G24 -> 1295.5 | H23: =H24 -> 1303.9
A24: 001 | B24: 0104 | C24: 9990210510 | D24: 120 | E24: Расходы на выплаты персоналу государственных (муниципальных) органов | F24: 1287.5 | G24: 1295.5 | H24: 1303.9
A25: 001 | B25: 0104 | C25: 9990225000 | E25: Обеспечение деятельности исполнительно-распорядительных органов местного самоуправления за исключением переданных государственных полномочий | F25: =F26+F28 -> 36727.4 | G25: =G26+G28 -> 34279.3 | H25: =H26+H28 -> 34279.3
A26: 001 | B26: 0104 | C26: 9990225000 | D26: 100 | E26: Расходы на выплаты персоналу в целях обеспечения выполнения функций государственными (муниципальными) органами, казенными учреждениями, органами управления государственными внебюджетными фондами | F26: =F27 -> 34214.2 | G26: =G27 -> 34175.7 | H26: =H27 -> 34175.7
A27: 001 | B27: 0104 | C27: 9990225000 | D27: 120 | E27: Расходы на выплаты персоналу государственных (муниципальных) органов | F27: =34175.7+727-688.5 -> 34214.2 | G27: 34175.7 | H27: 34175.7
A28: 001 | B28: 0104 | C28: 9990225000 | D28: 800 | E28: Иные бюджетные ассигнования | F28: =F29 -> 2513.2 | G28: =G29 -> 103.6 | H28: =H29 -> 103.6
A29: 001 | B29: 0104 | C29: 9990225000 | D29: 850 | E29: Уплата налогов, сборов и иных платежей | F29: =103.6+2651.4-220.9-20.9 -> 2513.2 | G29: 103.6 | H29: 103.6
A30: 001 | B30: 0104 | C30: 9990255492 | E30: Расходы на поощрение за достижение показателей деятельности органов исполнительной власти Тверской области (на поощрение муниципальных управленческих команд) | F30: =F31 -> 389 | G30: =G31 -> 0 | H30: =H31 -> 0
A31: 001 | B31: 0104 | C31: 9990255492 | D31: 100 | E31: Расходы на выплаты персоналу в целях обеспечения выполнения функций государственными (муниципальными) органами, казенными учреждениями, органами управления государственными внебюджетными фондами | F31: =F32 -> 389 | G31: =G32 -> 0 | H31: =H32 -> 0
A32: 001 | B32: 0104 | C32: 9990255492 | D32: 120 | E32: Расходы на выплаты персоналу государственных (муниципальных) органов | F32: 389 | G32: 0 | H32: 0
A33: 001 | B33: 0105 | E33: Судебная система | F33: =F34 -> 210.3 | G33: =G34 -> 19.1 | H33: =H34 -> 20.7
A34: 001 | B34: 0105 | C34: 9900000000 | E34: Расходы, не включенные в муниципальные программы | F34: =F35 -> 210.3 | G34: =G35 -> 19.1 | H34: =H35 -> 20.7
A35: 001 | B35: 0105 | C35: 9930000000 | E35: Мероприятия, не включенные в муниципальные программы муниципального образования город Торжок | F35: =F36 -> 210.3 | G35: =G36 -> 19.1 | H35: =H36 -> 20.7
A36: 001 | B36: 0105 | C36: 9930051200 | E36: Осуществление полномочий по составлению (изменению) списков кандидатов в присяжные заседатели федеральных судов общей юрисдикции в Российской Федерации | F36: =F37 -> 210.3 | G36: =G37 -> 19.1 | H36: =H37 -> 20.7
A37: 001 | B37: 0105 | C37: 9930051200 | D37: 200 | E37: Закупка товаров, работ и услуг для обеспечения государственных (муниципальных ) нужд | F37: =F38 -> 210.3 | G37: =G38 -> 19.1 | H37: =H38 -> 20.7
A38: 001 | B38: 0105 | C38: 9930051200 | D38: 240 | E38: Иные закупки товаров, работ и услуг для обеспечения государственных (муниципальных) нужд | F38: 210.3 | G38: 19.1 | H38: 20.7
A39: 001 | B39: 0107 | E39: Обеспечение проведения выборов и референдумов | F39: =F40 -> 8000 | G39: =G40 -> 0 | H39: =H40 -> 0
A40: 001 | B40: 0107 | C40: 9900000000 | E40: Расходы, не включенные в муниципальные программы | F40: =F41 -> 8000 | G40: =G41 -> 0 | H40: =H41 -> 0
A41: 001 | B41: 0107 | C41: 9930000000 | E41: Мероприятия, не включенные в муниципальные программы муниципального образования город Торжок | F41: =F42 -> 8000 | G41: =G42 -> 0 | H41: =H42 -> 0
...

Sheet  № 5  рп, кцср, квр
A1: Приложение 5 к решению Торжокской городской Думы от 23.12.2025 № 29
D2: (в редакции решения Думы Торжокского муниципального округа Тверской области от 22.10.2026 № 97)
A4: Распределение бюджетных ассигнований бюджета муниципального образования город Торжок по разделам, подразделам, целевым статьям (муниципальным программам и непрограммным направлениям деятельности), группам и подгруппам видов расходов классификации расходов бюджетов на 2026 год и на плановый период 2027 и 2028 годов
A5: РП | B5: КЦСР | C5: КВР | D5: Наименование | E5: Сумма, тыс. руб.
E6: 2026 год | F6: плановый период
F7: 2027 год | G7: 2028 год
A8: 1 | B8: 2 | C8: 3 | D8: 4 | E8: 5 | F8: 6 | G8: 7
D9: Всего: | E9: =E10+E195+E219+E279+E427+E695+E750+E794+E884 -> 1837783.6 | F9: =F10+F195+F219+F279+F427+F695+F750+F794+F884 -> 1538973.9 | G9: =G10+G195+G219+G279+G427+G695+G750+G794+G884 -> 1389112.9
A10: 0100 | D10: Общегосударственные вопросы | E10: =E11+E17+E34+E49+E55+E80+E86+E93+E99 -> 132069.3 | F10: =F11+F17+F34+F49+F55+F80+F86+F93+F99 -> 97859.4 | G10: =G11+G17+G34+G49+G55+G80+G86+G93+G99 -> 98737.7
A11: 0102 | D11: Функционирование высшего должностного лица субъекта Российской Федерации и муниципального образования | E11: =E12 -> 3150.3 | F11: =F12 -> 2461.8 | G11: =G12 -> 2461.8
A12: 0102 | B12: 9900000000 | D12: Расходы, не включенные в муниципальные программы | E12: =E13 -> 3150.3 | F12: =F13 -> 2461.8 | G12: =G13 -> 2461.8
A13: 0102 | B13: 9990000000 | D13: Обеспечение деятельности органов местного самоуправления и учреждений, обеспечивающих их деятельность | E13: =E14 -> 3150.3 | F13: =F14 -> 2461.8 | G13: =G14 -> 2461.8
A14: 0102 | B14: 9990021000 | D14: Глава муниципального образования | E14: =E15 -> 3150.3 | F14: =F15 -> 2461.8 | G14: =G15 -> 2461.8
A15: 0102 | B15: 9990021000 | C15: 100 | D15: Расходы на выплаты персоналу в целях обеспечения выполнения функций государственными (муниципальными) органами, казенными учреждениями, органами управления государственными внебюджетными фондами | E15: =E16 -> 3150.3 | F15: =F16 -> 2461.8 | G15: =G16 -> 2461.8
A16: 0102 | B16: 9990021000 | C16: 120 | D16: Расходы на выплаты персоналу государственных (муниципальных) органов | E16: ='№ 4 ведом'!F17 -> 3150.3 | F16: ='№ 4 ведом'!G17 -> 2461.8 | G16: ='№ 4 ведом'!H17 -> 2461.8
A17: 0103 | D17: Функционирование законодательных (представительных) органов государственной власти и представительных органов муниципальных образований | E17: =E18 -> 2694.5 | F17: =F18 -> 2522.9 | G17: =G18 -> 2522.9
A18: 0103 | B18: 9900000000 | D18: Расходы, не включенные в муниципальные программы | E18: =E19 -> 2694.5 | F18: =F19 -> 2522.9 | G18: =G19 -> 2522.9
A19: 0103 | B19: 9990000000 | D19: Обеспечение деятельности органов местного самоуправления и учреждений, обеспечивающих их деятельность | E19: =E20 -> 2694.5 | F19: =F20 -> 2522.9 | G19: =G20 -> 2522.9
A20: 0103 | B20: 9990100000 | D20: Обеспечение деятельности представительного органа местного самоуправления | E20: =E21+E26+E31 -> 2694.5 | F20: =F21+F26+F31 -> 2522.9 | G20: =G21+G26+G31 -> 2522.9
A21: 0103 | B21: 9990123000 | D21: Обеспечение деятельности центрального аппарата Торжокской городской Думы | E21: =E22+E24 -> 1495.3 | F21: =F22+F24 -> 0 | G21: =G22+G24 -> 0
A22: 0103 | B22: 9990123000 | C22: 100 | D22: Расходы на выплаты персоналу в целях обеспечения выполнения функций государственными (муниципальными) органами, казенными учреждениями, органами управления государственными внебюджетными фондами | E22: =E23 -> 1286.9 | F22: =F23 -> 0 | G22: =G23 -> 0
A23: 0103 | B23: 9990123000 | C23: 120 | D23: Расходы на выплаты персоналу государственных (муниципальных) органов | E23: ='№ 4 ведом'!F744 -> 1286.9 | F23: ='№ 4 ведом'!G744 -> 0 | G23: ='№ 4 ведом'!H744 -> 0
A24: 0103 | B24: 9990123000 | C24: 200 | D24: Закупка товаров, работ и услуг для обеспечения государственных (муниципальных ) нужд | E24: =E25 -> 208.4 | F24: =F25 -> 0 | G24: =G25 -> 0
A25: 0103 | B25: 9990123000 | C25: 240 | D25: Иные закупки товаров, работ и услуг для обеспечения государственных (муниципальных) нужд | E25: ='№ 4 ведом'!F746 -> 208.4 | F25: ='№ 4 ведом'!G746 -> 0 | G25: ='№ 4 ведом'!H746 -> 0
A26: 0103 | B26: 9990124000 | D26: Обеспечение деятельности центрального аппарата Думы Торжокского муниципального округа | E26: =E27+E29 -> 1184.2 | F26: =F27+F29 -> 2522.9 | G26: =G27+G29 -> 2522.9
A27: 0103 | B27: 9990124000 | C27: 100 | D27: Расходы на выплаты персоналу в целях обеспечения выполнения функций государственными (муниципальными) органами, казенными учреждениями, органами управления государственными внебюджетными фондами | E27: =E28 -> 609.4 | F27: =F28 -> 1907.5 | G27: =G28 -> 1907.5
A28: 0103 | B28: 9990124000 | C28: 120 | D28: Расходы на выплаты персоналу государственных (муниципальных) органов | E28: ='№ 4 ведом'!F764 -> 609.4 | F28: ='№ 4 ведом'!G764 -> 1907.5 | G28: ='№ 4 ведом'!H764 -> 1907.5
A29: 0103 | B29: 9990124000 | C29: 200 | D29: Закупка товаров, работ и услуг для обеспечения государственных (муниципальных ) нужд | E29: =E30 -> 574.8 | F29: =F30 -> 615.4 | G29: =G30 -> 615.4
A30: 0103 | B30: 9990124000 | C30: 240 | D30: Иные закупки товаров, работ и услуг для обеспечения государственных (муниципальных) нужд | E30: ='№ 4 ведом'!F766 -> 574.8 | F30: ='№ 4 ведом'!G766 -> 615.4 | G30: ='№ 4 ведом'!H766 -> 615.4
A31: 0103 | B31: 9990155492 | D31: Расходы на поощрение за достижение показателей деятельности органов исполнительной власти Тверской области (на поощрение муниципальных управленческих команд) | E31: =E32 -> 15 | F31: =F32 -> 0 | G31: =G32 -> 0
A32: 0103 | B32: 9990155492 | C32: 100 | D32: Расходы на выплаты персоналу в целях обеспечения выполнения функций государственными (муниципальными) органами, казенными учреждениями, органами управления государственными внебюджетными фондами | E32: =E33 -> 15 | F32: =F33 -> 0 | G32: =G33 -> 0
A33: 0103 | B33: 9990155492 | C33: 120 | D33: Расходы на выплаты персоналу государственных (муниципальных) органов | E33: ='№ 4 ведом'!F769 -> 15 | F33: ='№ 4 ведом'!G769 -> 0 | G33: ='№ 4 ведом'!H769 -> 0
A34: 0104 | D34: Функционирование Правительства Российской Федерации, высших исполнительных органов государственной власти субъектов Российской Федерации, местных администраций | E34: =E35 -> 38403.9 | F34: =F35 -> 35574.8 | G34: =G35 -> 35583.2
A35: 0104 | B35: 9900000000 | D35: Расходы, не включенные в муниципальные программы | E35: =E36 -> 38403.9 | F35: =F36 -> 35574.8 | G35: =G36 -> 35583.2
A36: 0104 | B36: 9990000000 | D36: Обеспечение деятельности органов местного самоуправления и учреждений, обеспечивающих их деятельность | E36: =E37 -> 38403.9 | F36: =F37 -> 35574.8 | G36: =G37 -> 35583.2
A37: 0104 | B37: 9990200000 | D37: Обеспечение деятельности исполнительно-распорядительного органа местного самоуправления | E37: =E38+E41+E46 -> 38403.9 | F37: =F38+F41+F46 -> 35574.8 | G37: =G38+G41+G46 -> 35583.2
A38: 0104 | B38: 9990210510 | D38: Финансовое обеспечение реализации государственных полномочий по созданию, исполнению полномочий и обеспечению деятельности комиссий по делам несовершеннолетних | E38: =E39 -> 1287.5 | F38: =F39 -> 1295.5 | G38: =G39 -> 1303.9
A39: 0104 | B39: 9990210510 | C39: 100 | D39: Расходы на выплаты персоналу в целях обеспечения выполнения функций государственными (муниципальными) органами, казенными учреждениями, органами управления государственными внебюджетными фондами | E39: =E40 -> 1287.5 | F39: =F40 -> 1295.5 | G39: =G40 -> 1303.9
A40: 0104 | B40: 9990210510 | C40: 120 | D40: Расходы на выплаты персоналу государственных (муниципальных) органов | E40: ='№ 4 ведом'!F24 -> 1287.5 | F40: ='№ 4 ведом'!G24 -> 1295.5 | G40: ='№ 4 ведом'!H24 -> 1303.9
A41: 0104 | B41: 9990225000 | D41: Обеспечение деятельности исполнительно-распорядительных органов местного самоуправления за исключением переданных государственных полномочий | E41: =E42+E44 -> 36727.4 | F41: =F42+F44 -> 34279.3 | G41: =G42+G44 -> 34279.3
...

Sheet № 6 МП
A1: Приложение 6 к решению Торжокской городской Думы от 23.12.2025 № 29
C2: (в редакции решения Думы Торжокского муниципального округа Тверской области от 22.10.2026 № 97)
A4: Распределение бюджетных ассигнований по целевым статьям (муниципальным программам и непрограммным направлениям деятельности), группам и подгруппам видов расходов классификации расходов бюджетов на 2026 год и на плановый период 2027 и 2028 годов
A5: КЦСР | B5: КВР | C5: Наименование | D5: Сумма, тыс. руб.
D6: 2026 год | E6: плановый период
E7: 2027 год | F7: 2028 год
A8: 1 | B8: 2 | C8: 3 | D8: 4 | E8: 5 | F8: 6
C9: Всего: | D9: =D10+D155+D281+D374+D426+D475+D526 -> 1837783.6 | E9: =E10+E155+E281+E374+E426+E475+E526 -> 1538973.9 | F9: =F10+F155+F281+F374+F426+F475+F526 -> 1389112.9
A10: 3100000000 | C10: Муниципальная программа муниципального образования город Торжок "Развитие образования города Торжка" на 2026 - 2031 годы | D10: =D11+D106+D130 -> 1146733.8 | E10: =E11+E106+E130 -> 1014318.5 | F10: =F11+F106+F130 -> 936973.3
A11: 3110000000 | C11: Подпрограмма "Общее образование " | D11: =D12+D25+D31+D41+D62+D68+D89+D96+D75+D82 -> 1081269.1 | E11: =E12+E25+E31+E41+E62+E68+E89+E96+E75+E82 -> 952032.3 | F11: =F12+F25+F31+F41+F62+F68+F89+F96+F75+F82 -> 874318.7
A12: 3110100000 | C12: Мероприятие "Оказание муниципальных услуг, выполнение работ муниципальными образовательными организациями, реализующими основные общеобразовательные программы" | D12: =D13+D16+D19+D22 -> 789679.3 | E12: =E13+E16+E19+E22 -> 790250.3 | F12: =F13+F16+F19+F22 -> 795831
A13: 3110110740 | C13: Обеспечение государственных гарантий реализации прав на получение общедоступного и бесплатного дошкольного образования в муниципальных дошкольных образовательных организациях | D13: =D14 -> 213384.5 | E13: =E14 -> 213751.4 | F13: =F14 -> 214533.7
A14: 3110110740 | B14: 600 | C14: Предоставление субсидий бюджетным, автономным учреждениям и иным некоммерческим организациям | D14: =D15 -> 213384.5 | E14: =E15 -> 213751.4 | F14: =F15 -> 214533.7
A15: 3110110740 | B15: 610 | C15: Субсидии бюджетным учреждениям | D15: =' № 5 рп, кцср, квр'!E434 -> 213384.5 | E15: =' № 5 рп, кцср, квр'!F434 -> 213751.4 | F15: =' № 5 рп, кцср, квр'!G434 -> 214533.7
A16: 3110110750 | C16: Обеспечение государственных гарантий реализации прав на получение общедоступного и бесплатного дошкольного, начального общего, основного общего, среднего общего образования в муниципальных общеобразовательных организациях, обеспечение дополнительного образования детей в муниципальных общеобразовательных организациях | D16: =D17 -> 368045.9 | E16: =E17 -> 368661.1 | F16: =F17 -> 371025.9
A17: 3110110750 | B17: 600 | C17: Предоставление субсидий бюджетным, автономным учреждениям и иным некоммерческим организациям | D17: =D18 -> 368045.9 | E17: =E18 -> 368661.1 | F17: =F18 -> 371025.9
A18: 3110110750 | B18: 610 | C18: Субсидии бюджетным учреждениям | D18: =' № 5 рп, кцср, квр'!E501 -> 368045.9 | E18: =' № 5 рп, кцср, квр'!F501 -> 368661.1 | F18: =' № 5 рп, кцср, квр'!G501 -> 371025.9
A19: 3110120010 | C19: Оказание муниципальными учреждениями муниципальных услуг, выполнение работ | D19: =D20 -> 206008.9 | E19: =E20 -> 207837.8 | F19: =F20 -> 210271.4
A20: 3110120010 | B20: 600 | C20: Предоставление субсидий бюджетным, автономным учреждениям и иным некоммерческим организациям | D20: =D21 -> 206008.9 | E20: =E21 -> 207837.8 | F20: =F21 -> 210271.4
A21: 3110120010 | B21: 610 | C21: Субсидии бюджетным учреждениям | D21: =' № 5 рп, кцср, квр'!E437+' № 5 рп, кцср, квр'!E504 -> 206008.9 | E21: =' № 5 рп, кцср, квр'!F437+' № 5 рп, кцср, квр'!F504 -> 207837.8 | F21: =' № 5 рп, кцср, квр'!G437+' № 5 рп, кцср, квр'!G504 -> 210271.4
A22: 31101S1390 | C22: Единовременная выплата к началу учебного года работникам муниципальных образовательных организаций | D22: =D23 -> 2240 | E22: =E23 -> 0 | F22: =F23 -> 0
A23: 31101S1390 | B23: 600 | C23: Предоставление субсидий бюджетным, автономным учреждениям и иным некоммерческим организациям | D23: =D24 -> 2240 | E23: =E24 -> 0 | F23: =F24 -> 0
A24: 31101S1390 | B24: 610 | C24: Субсидии бюджетным учреждениям | D24: =' № 5 рп, кцср, квр'!E440+' № 5 рп, кцср, квр'!E507 -> 2240 | E24: =' № 5 рп, кцср, квр'!F440+' № 5 рп, кцср, квр'!F507 -> 0 | F24: =' № 5 рп, кцср, квр'!G440+' № 5 рп, кцср, квр'!G507 -> 0
A25: 3110200000 | C25: Мероприятие "Обеспечение мер социальной защиты в образовательных организациях, реализующих основные общеобразовательные программы" | D25: =D26 -> 13605.2 | E25: =E26 -> 13605.2 | F25: =F26 -> 13605.2
A26: 3110210500 | C26: Компенсация части родительской платы за присмотр и уход за ребенком в муниципальных образовательных организациях и иных образовательных организациях (за исключением государственных образовательных организаций), реализующих образовательную программу дошкольного образования | D26: =D27+D29 -> 13605.2 | E26: =E27+E29 -> 13605.2 | F26: =F27+F29 -> 13605.2
A27: 3110210500 | B27: 200 | C27: Закупка товаров, работ и услуг для обеспечения государственных (муниципальных ) нужд | D27: =D28 -> 331.8 | E27: =E28 -> 331.8 | F27: =F28 -> 331.8
A28: 3110210500 | B28: 240 | C28: Иные закупки товаров, работ и услуг для обеспечения государственных (муниципальных) нужд | D28: =' № 5 рп, кцср, квр'!E779 -> 331.8 | E28: =' № 5 рп, кцср, квр'!F779 -> 331.8 | F28: =' № 5 рп, кцср, квр'!G779 -> 331.8
A29: 3110210500 | B29: 300 | C29: Социальное обеспечение и иные выплаты населению | D29: =D30 -> 13273.4 | E29: =E30 -> 13273.4 | F29: =F30 -> 13273.4
A30: 3110210500 | B30: 320 | C30: Социальные выплаты гражданам, кроме публичных нормативных социальных выплат | D30: =' № 5 рп, кцср, квр'!E781 -> 13273.4 | E30: =' № 5 рп, кцср, квр'!F781 -> 13273.4 | F30: =' № 5 рп, кцср, квр'!G781 -> 13273.4
A31: 3110300000 | C31: Мероприятие "Организация питания учащихся общеобразовательных учреждений" | D31: =D32+D35+D38 -> 32431.7 | E31: =E32+E35+E38 -> 30322.1 | F31: =F32+F35+F38 -> 29186.5
A32: 31103L3041 | C32: Организация бесплатного горячего питания обучающихся, получающих начальное общее образование в муниципальных образовательных организациях | D32: =D33 -> 25463 | E32: =E33 -> 24840.7 | F32: =F33 -> 23705
A33: 31103L3041 | B33: 600 | C33: Предоставление субсидий бюджетным, автономным учреждениям и иным некоммерческим организациям | D33: =D34 -> 25463 | E33: =E34 -> 24840.7 | F33: =F34 -> 23705
A34: 31103L3041 | B34: 610 | C34: Субсидии бюджетным учреждениям | D34: =' № 5 рп, кцср, квр'!E511 -> 25463 | E34: =' № 5 рп, кцср, квр'!F511 -> 24840.7 | F34: =' № 5 рп, кцср, квр'!G511 -> 23705
A35: 3110320010 | C35: Организация обеспечения питанием учащихся муниципальных общеобразовательных учреждений с ограниченными возможностями здоровья | D35: =D36 -> 5053 | E35: =E36 -> 4500 | F35: =F36 -> 4500
A36: 3110320010 | B36: 600 | C36: Предоставление субсидий бюджетным, автономным учреждениям и иным некоммерческим организациям | D36: =D37 -> 5053 | E36: =E37 -> 4500 | F36: =F37 -> 4500
A37: 3110320010 | B37: 610 | C37: Субсидии бюджетным учреждениям | D37: =' № 5 рп, кцср, квр'!E514 -> 5053 | E37: =' № 5 рп, кцср, квр'!F514 -> 4500 | F37: =' № 5 рп, кцср, квр'!G514 -> 4500
A38: 3110320020 | C38: Организация обеспечения питанием учащихся муниципальных общеобразовательных учреждений, являющихся членами семей участников специальной военной операции | D38: =D39 -> 1915.7 | E38: =E39 -> 981.4 | F38: =F39 -> 981.5
A39: 3110320020 | B39: 600 | C39: Предоставление субсидий бюджетным, автономным учреждениям и иным некоммерческим организациям | D39: =D40 -> 1915.7 | E39: =E40 -> 981.4 | F39: =F40 -> 981.5
A40: 3110320020 | B40: 610 | C40: Субсидии бюджетным учреждениям | D40: =' № 5 рп, кцср, квр'!E517 -> 1915.7 | E40: =' № 5 рп, кцср, квр'!F517 -> 981.4 | F40: =' № 5 рп, кцср, квр'!G517 -> 981.5
A41: 3110500000 | C41: Мероприятие "Проведение капитального ремонта и ремонта объектов недвижимого имущества и (или) особо ценного движимого имущества муниципальными образовательными организациями, реализующими основные общеобразовательные программы" | D41: =D42+D47+D50+D53+D56+D59 -> 184105.8 | E41: =E42+E47+E50+E53+E56+E59 -> 0 | F41: =F42+F47+F50+F53+F56+F59 -> 0
...

Sheet № 8 АИП 
J1: Приложение 8 к решению Торжокской городской Думы от 23.12.2025 № 29
B2: (в редакции решения Думы Торжокского муниципального округа Тверской области от 22.10.2026 № 97)
A3: Адресная инвестиционная программа
A4: муниципального образования город Торжок на 2026 год и на плановый период 2027 и 2028 годов
A5: № п/п | B5: Наименование | C5: Бюджетополучатель | D5: Лимит местного бюджета (тыс. руб.) | M5: Раздел и подраздел бюджетной классификации расходов
D6: 2026 год | G6: 2027 год | J6: 2028 год
D7: средства местного бюджета | E7: средства вышестоящих бюджетов | F7: всего | G7: средства местного бюджета | H7: средства вышестоящих бюджетов | I7: всего | J7: средства местного бюджета | K7: средства вышестоящих бюджетов | L7: всего
A8: 1 | B8: Жилищно-коммунальное хозяйство | C8: х | D8: =D12+D9 -> 2467.4 | E8: =E12+E9 -> 0 | F8: =F12+F9 -> 2467.4 | G8: =G12+G9 -> 6500 | H8: =H12+H9 -> 0 | I8: =I12+I9 -> 6500 | J8: =J12 -> 0 | K8: =K12 -> 0 | L8: =L12 -> 0 | M8: 0500
A9: 1.1 | B9: Коммунальное хозяйство | D9: =D10 -> 1395.3 | E9: =E10 -> 0 | F9: =F10 -> 1395.3 | G9: =G10+G11 -> 6500 | H9: =H10 -> 0 | I9: =I10+I11 -> 6500 | J9: =J10 -> 0 | K9: =K10 -> 0 | L9: =L10 -> 0 | M9: 0502
A10: 1.1.1. | B10: Выполнение работ по прокладке водопроводной линии от д.4 до д.11 по Республиканскому пер., в г.Торжке | C10: администрация муниципального образования городской округ город Торжок Тверской области | D10: ='[1]№ 4 ведом'!F220 -> 1395.3 | E10: 0 | F10: =SUM(D10:E10) -> 1395.3 | G10: 0 | H10: 0 | I10: =G10+H10 -> 0 | J10: 0 | K10: 0 | L10: =J10+K10 -> 0 | M10: 0502
B11: Строительство блочно-модульной котельной по адресу г. Торжок, Ленинградское шоссе, 12ж | C11: администрация муниципального образования городской округ город Торжок Тверской области | D11: 0 | E11: 0 | F11: =SUM(D11:E11) -> 0 | G11: ='[1]№ 4 ведом'!G220 -> 6500 | H11: 0 | I11: =G11+H11 -> 6500
A12: 1.2. | B12: Благоустройство | C12: х | D12: =D13 -> 1072.1 | E12: =E13 -> 0 | F12: =F13 -> 1072.1 | G12: =G13 -> 0 | H12: =H13 -> 0 | I12: =I13 -> 0 | J12: =J13 -> 0 | K12: =K13 -> 0 | L12: =L13 -> 0 | M12: 0503
A13: 1.2.1. | B13: Выполнение работ по устройству линий уличного освещения г.Торжке: - ул. Калининское шоссе от дома № 51 в сторону выезда из города; - Калининское шоссе (от дома № 18А до дома №28Б); - Калининское шоссе (от дома № 14 Б по Калининскому шоссе до дома № 1 по ул. 1-ая Авиационная); - Ленинградское шоссе (у дома № 33 со стороны подросткового клуба "Хрущовка 2:0"); - ул. Пролетарская, у дома № 36; - ул.Студенческая, у дома №13 | C13: администрация муниципального образования городской округ город Торжок Тверской области | D13: ='[1]№ 4 ведом'!F303 -> 1072.1 | E13: 0 | F13: =SUM(D13:E13) -> 1072.1 | G13: 0 | H13: 0 | I13: =G13+H13 -> 0 | J13: 0 | K13: 0 | L13: =J13+K13 -> 0 | M13: 0503
A14: 2. | B14: Социальная политика | C14: х | D14: =D15 -> 0 | E14: =E15 -> 11043.7 | F14: =SUM(D14:E14) -> 11043.7 | G14: =G15 -> 0 | H14: =H15 -> 5521.9 | I14: =I15 -> 5521.9 | J14: =J15 -> 0 | K14: =K15 -> 0 | L14: =L15 -> 0 | M14: 1000
A15: 2.1. | B15: Охрана семьи и детства | C15: х | D15: =D16 -> 0 | E15: =E16 -> 11043.7 | F15: =SUM(D15:E15) -> 11043.7 | G15: =G16 -> 0 | H15: =H16 -> 5521.9 | I15: =I16 -> 5521.9 | J15: =J16 -> 0 | K15: =K16 -> 0 | L15: =L16 -> 0 | M15: 1004
A16: 2.1.1. | B16: Приобретение в муниципальную собственность жилых помещений | D16: =D17 -> 0 | E16: =E17 -> 11043.7 | F16: =SUM(D16:E16) -> 11043.7 | G16: =G17 -> 0 | H16: =H17 -> 5521.9 | I16: =I17 -> 5521.9 | J16: =J17 -> 0 | K16: =K17 -> 0 | L16: =L17 -> 0 | M16: 1004
A17: 2.1.1.1. | B17: Приобретение в муниципальную собственность жилых помещений детям-сиротам, детям, оставшимся без попечения родителей, лицам из их числа по договорам найма специализированных жилых помещений | C17: Комитет по управлению имуществом муниципального образования городской округ город Торжок Тверской области | D17: 0 | E17: ='[1]№ 4 ведом'!F742 -> 11043.7 | F17: =SUM(D17:E17) -> 11043.7 | G17: 0 | H17: ='[2]№ 4 ведом'!G615 -> 5521.9 | I17: =G17+H17 -> 5521.9 | J17: 0 | K17: 0 | L17: =J17+K17 -> 0 | M17: 1004
B18: Всего: | D18: =D8+D14 -> 2467.4 | E18: =E8+E14 -> 11043.7 | F18: =F8+F14 -> 13511.1 | G18: =G8+G14 -> 6500 | H18: =H8+H14 -> 5521.9 | I18: =I8+I14 -> 12021.9 | J18: =J8+J14 -> 0 | K18: =K8+K14 -> 0 | L18: =L8+L14 -> 0 | M18: х
D22: =#REF!+#REF!+#REF! -> #REF! | E22: =#REF!+#REF!+#REF! -> #REF! | F22: =#REF!+#REF!+#REF! -> #REF! | G22: =#REF!+#REF!+#REF! -> #REF! | H22: =#REF!+#REF!+#REF! -> #REF! | I22: =#REF!+#REF!+#REF! -> #REF! | J22: =#REF!+#REF!+#REF! -> #REF! | K22: =#REF!+#REF!+#REF! -> #REF! | L22: =#REF!+#REF!+#REF! -> #REF!
